BEGIN:VCALENDAR
VERSION:2.0
PRODID:Events Booking
BEGIN:VEVENT
UID:69e61cdbebf3b
SUMMARY:IPI conference 2025
DESCRIPTION:
DTSTART:20251112T083000Z
DTEND:20251113T210000Z
DTSTAMP:20260420T123227Z
ORGANIZER;CN=IPI Conference:MAILTO:pb@esma.com
END:VEVENT
END:VCALENDAR